BEGIN:VCALENDAR
VERSION:2.0
PRODID:-//Friends of Saint Sharbel - ECPv6.15.20//NONSGML v1.0//EN
CALSCALE:GREGORIAN
METHOD:PUBLISH
X-WR-CALNAME:Friends of Saint Sharbel
X-ORIGINAL-URL:https://friendsofsaintsharbel.com
X-WR-CALDESC:Events for Friends of Saint Sharbel
REFRESH-INTERVAL;VALUE=DURATION:PT1H
X-Robots-Tag:noindex
X-PUBLISHED-TTL:PT1H
BEGIN:VTIMEZONE
TZID:UTC
BEGIN:STANDARD
TZOFFSETFROM:+0000
TZOFFSETTO:+0000
TZNAME:UTC
DTSTART:20230101T000000
END:STANDARD
END:VTIMEZONE
BEGIN:VEVENT
DTSTART;TZID=UTC:20250315T000000
DTEND;TZID=UTC:20250317T000000
DTSTAMP:20260423T162110
CREATED:20250129T223208Z
LAST-MODIFIED:20250129T223441Z
UID:302-1741996800-1742169600@friendsofsaintsharbel.com
SUMMARY:Relic Visit\, St. Senans Chruch\, Cork
DESCRIPTION:The Relics of St. Sharbel will be present for veneration in Cloghroe\, Cork on the days of March 15th\, March 16th\, and March 17th. \nMarch 15th – 5pm to 8pm\, Mass at 7pm \nMarch 16th – 11am – 4pm\, Mass at 11:30 \nMarch 17th – 11am – 3pm\, Mass at 11:30 \n 
URL:https://friendsofsaintsharbel.com/event/relic-visit-st-senans-chruch-cork/
LOCATION:St. Senans Church\, St. Senan's Church\, Cloghroe\, Cork\, T23T934\, Ireland
END:VEVENT
BEGIN:VEVENT
DTSTART;TZID=UTC:20250306T100000
DTEND;TZID=UTC:20250308T193000
DTSTAMP:20260423T162110
CREATED:20250304T173825Z
LAST-MODIFIED:20250304T173916Z
UID:312-1741255200-1741462200@friendsofsaintsharbel.com
SUMMARY:St. Sharbel Triduum At Dundalk Friary
DESCRIPTION:The Family of St. Sharbel Ireland will be visiting the Dominican Friary in Dundalk\, county Louth for the 6th\, 7th\, and 8th of March. \nThe three days will have dedicated masses to St. Sharbel in the morning at 10:00 AM and 6:15PM in the evening.
URL:https://friendsofsaintsharbel.com/event/st-sharbel-triduum-at-dundalk-friary/
LOCATION:St. Malachi Dominican Friary\, 19 Anne St\, Dundalk\, Louth\, Ireland
END:VEVENT
BEGIN:VEVENT
DTSTART;TZID=UTC:20250209T190000
DTEND;TZID=UTC:20250209T210000
DTSTAMP:20260423T162110
CREATED:20250129T222030Z
LAST-MODIFIED:20250129T223838Z
UID:286-1739127600-1739134800@friendsofsaintsharbel.com
SUMMARY:Relic Visit To Duneane\, Antrim
DESCRIPTION:The Relics of St. Sharbel will be present for veneration in Antrim on February 9th at 7:00PM for a healing mass.
URL:https://friendsofsaintsharbel.com/event/relic-visit-to-duneane-antrim/
LOCATION:Duneane\, Antrim\, 103 Roguery Road\, Toomebridge\, Antrim\, BT413PT\, Ireland
END:VEVENT
BEGIN:VEVENT
DTSTART;TZID=UTC:20250131T090000
DTEND;TZID=UTC:20250203T120000
DTSTAMP:20260423T162110
CREATED:20250129T222727Z
LAST-MODIFIED:20250129T223728Z
UID:295-1738314000-1738584000@friendsofsaintsharbel.com
SUMMARY:Relic Visit to Church of St. Philip the Apostle\, Dublin
DESCRIPTION:The Relics of St. Sharbel will be present for veneration in Clonsilla\, Dublin on the days of January 31st to February 3rd. \nJan 31st – 9:15AM Mass \nFeb 1st – 11AM – 10:00AM Mass \nFeb 2nd – 11AM – 10:00AM & Noon Mass \nFeb 3rd – 9:15AM Mass
URL:https://friendsofsaintsharbel.com/event/relic-visit-to-church-of-st-philip-the-apostle-dublin/
LOCATION:Church of Saint Philip the Apostle\, Consilla\, Dublin 15\, Church of Saint Philip the Apostle\, Dublin\, Dublin\, Dublin 15\, Ireland
END:VEVENT
BEGIN:VEVENT
DTSTART;TZID=UTC:20250125T190000
DTEND;TZID=UTC:20250125T210000
DTSTAMP:20260423T162110
CREATED:20250129T222921Z
LAST-MODIFIED:20250129T222921Z
UID:299-1737831600-1737838800@friendsofsaintsharbel.com
SUMMARY:Relic Visit\, Our Lady Star of the Sea\, Bother Co. Louth
DESCRIPTION:
URL:https://friendsofsaintsharbel.com/event/relic-visit-our-lady-star-of-the-sea-bother-co-louth/
LOCATION:Louth
END:VEVENT
BEGIN:VEVENT
DTSTART;TZID=UTC:20241006T000000
DTEND;TZID=UTC:20241006T235959
DTSTAMP:20260423T162110
CREATED:20240808T224728Z
LAST-MODIFIED:20240808T224728Z
UID:233-1728172800-1728259199@friendsofsaintsharbel.com
SUMMARY:St. Sharbels Relic in Northhampton\, UK
DESCRIPTION:On October 6th\, St. Sharbels relic will be on display in the chapel in the Northampton Cathedral. Blessings will be available with the Relic in between mass.
URL:https://friendsofsaintsharbel.com/event/st-sharbels-relic-in-northhampton-uk/
LOCATION:Northampton\, 1 Primrose Hill\, Northampton\, Northamptonshire\, NN26AG\, United Kingdom
END:VEVENT
BEGIN:VEVENT
DTSTART;TZID=UTC:20240901T160000
DTEND;TZID=UTC:20240901T190000
DTSTAMP:20260423T162110
CREATED:20240808T224328Z
LAST-MODIFIED:20240808T224328Z
UID:230-1725206400-1725217200@friendsofsaintsharbel.com
SUMMARY:St. Sharbels Relic in Kilkenny
DESCRIPTION:St. Sharbels relic will be visiting the Dominican Black Abbey in Kilkenny on September 1st. Starting at 4 PM\, before Mass\, blessings will be made available with the relic\, as well as a short talk about St. Sharbel and his miracles. \nMass will begin at 6:00 PM sharp\, followed by a final general blessing with the relic. \n 
URL:https://friendsofsaintsharbel.com/event/st-sharbels-relic-in-kilkenny/
LOCATION:Dominican Black Abbey\, Dominican Black Abbey\, Kilkenny\, Kilkenny\, R95TCK6\, Ireland
END:VEVENT
BEGIN:VEVENT
DTSTART;TZID=UTC:20240818T120000
DTEND;TZID=UTC:20240818T150000
DTSTAMP:20260423T162110
CREATED:20240808T221918Z
LAST-MODIFIED:20240808T221918Z
UID:227-1723982400-1723993200@friendsofsaintsharbel.com
SUMMARY:St. Sharbels Relic in Killarney\, Co. Kerry
DESCRIPTION:St. Sharbel’s relic will be coming to St. Marys Cathedral\, Killarney on Sunday August 18th. \nMass will begin at 12:00 noon\, and will be followed by a short presentation on the life of St. Sharbel and some of the miracles that have been associated with his intercession. \n 
URL:https://friendsofsaintsharbel.com/event/st-sharbels-relic-in-killarney-co-kerry/
LOCATION:Cathedral Walk\, New Street\, Killarney\, Co. Kerry    V93FF80\, Cathedral Walk\, Killarney\, Kerry\, V93FF80\, Ireland
END:VEVENT
BEGIN:VEVENT
DTSTART;TZID=UTC:20240802T140000
DTEND;TZID=UTC:20240804T200000
DTSTAMP:20260423T162110
CREATED:20240808T172758Z
LAST-MODIFIED:20240808T172758Z
UID:223-1722607200-1722801600@friendsofsaintsharbel.com
SUMMARY:Church of Our Lady - Amsterdam\, NL
DESCRIPTION:The Relic of St. Sharbel will be travelling to Amsterdam. Beginning on Friday\, August 2nd at 2:00 PM\, and ending after Mass on Sunday at 8:00 PM\, the Relic will be installed in the chapel of the Church of Our Lady. After Saturday Vigil and each of the three Masses on Sunday Fr. Raphael will be blessing each member who wishes to get an individual blessing with the Relic. \nFr. Antonious of the local Orthodox community will be blessing his congregation after their Liturgy starting at 9:00 AM on Sunday. \nAfter each mass there will be a presentation on St. Sharbels life and some of the miracles associated with him\, which will be in the parish hall.
URL:https://friendsofsaintsharbel.com/event/church-of-our-lady-amsterdam-nl/
LOCATION:Keizersgracht 218\, B 220\, 1016 DZ Amsterdam\, Netherlands\, Keizersgracht 218\, Amsterdam\, 1016 DZ\, Netherlands
END:VEVENT
BEGIN:VEVENT
DTSTART;TZID=UTC:20240727T133000
DTEND;TZID=UTC:20240727T170000
DTSTAMP:20260423T162110
CREATED:20240716T225507Z
LAST-MODIFIED:20240716T225507Z
UID:183-1722087000-1722099600@friendsofsaintsharbel.com
SUMMARY:Knock Shrine - Mass in Honor of St. Sharbel
DESCRIPTION:The Friends of St. Sharbel will be bringing the Relic of St. Sharbel to Knock Shrine for a mass in his honor on July 27th. \nA presentation on the life and some of the miracles associated with St. Sharbel will begin at 1:30PM. \nFollowing the presentation\, there will be a Rosary Procession and Stations of the Cross\, beginning at 2:00PM. \nMass will begin at 3:00PM
URL:https://friendsofsaintsharbel.com/event/knock-shrine-mass-in-honor-of-st-sharbel/
LOCATION:Knock Shrine\, Drum\, Knock\, Mayo\, F12 Y226\, Ireland
END:VEVENT
END:VCALENDAR